BEGIN:VCALENDAR
VERSION:2.0
PRODID:-//Schützenverein &quot;Ruhige Hand&quot; Bliesmengen-Bolchen e.V. 1960 - ECPv6.15.20//NONSGML v1.0//EN
CALSCALE:GREGORIAN
METHOD:PUBLISH
X-ORIGINAL-URL:https://svbliesmengen.de
X-WR-CALDESC:Veranstaltungen für Schützenverein &quot;Ruhige Hand&quot; Bliesmengen-Bolchen e.V. 1960
REFRESH-INTERVAL;VALUE=DURATION:PT1H
X-Robots-Tag:noindex
X-PUBLISHED-TTL:PT1H
BEGIN:VTIMEZONE
TZID:Europe/Paris
BEGIN:DAYLIGHT
TZOFFSETFROM:+0100
TZOFFSETTO:+0200
TZNAME:CEST
DTSTART:20250330T010000
END:DAYLIGHT
BEGIN:STANDARD
TZOFFSETFROM:+0200
TZOFFSETTO:+0100
TZNAME:CET
DTSTART:20251026T010000
END:STANDARD
BEGIN:DAYLIGHT
TZOFFSETFROM:+0100
TZOFFSETTO:+0200
TZNAME:CEST
DTSTART:20260329T010000
END:DAYLIGHT
BEGIN:STANDARD
TZOFFSETFROM:+0200
TZOFFSETTO:+0100
TZNAME:CET
DTSTART:20261025T010000
END:STANDARD
BEGIN:DAYLIGHT
TZOFFSETFROM:+0100
TZOFFSETTO:+0200
TZNAME:CEST
DTSTART:20270328T010000
END:DAYLIGHT
BEGIN:STANDARD
TZOFFSETFROM:+0200
TZOFFSETTO:+0100
TZNAME:CET
DTSTART:20271031T010000
END:STANDARD
END:VTIMEZONE
BEGIN:VEVENT
DTSTART;TZID=Europe/Paris:20260201T080000
DTEND;TZID=Europe/Paris:20260201T170000
DTSTAMP:20260424T200623
CREATED:20250908T141502Z
LAST-MODIFIED:20250908T141502Z
UID:932-1769932800-1769965200@svbliesmengen.de
SUMMARY:Wettkampf Sportpistole Rückrunde 2. Wettkampf 2025/2026.
DESCRIPTION:Wettkampf Sportpistole Rückrunde 1. Wettkampf 2025/2026. Ort und Zeit werden wir noch bekanntgeben.
URL:https://svbliesmengen.de/event/wettkampf-sportpistole-rueckrunde-2-wettkampf-2025-2026/
CATEGORIES:Rundenkampf Sportpistole
END:VEVENT
BEGIN:VEVENT
DTSTART;TZID=Europe/Paris:20260217T171100
DTEND;TZID=Europe/Paris:20260217T220000
DTSTAMP:20260424T200623
CREATED:20260206T120158Z
LAST-MODIFIED:20260206T120158Z
UID:1017-1771348260-1771365600@svbliesmengen.de
SUMMARY:Heringessen an Faschingsdiensttag
DESCRIPTION:Auch dieses Jahr veranstaltet der Schützenverein ein Heringessen an Faschingsdienstag. Beginn ist um 17:11 Uhr. \nIm Angebot eingelegte Heringe mit Kartoffeln.\nHackschnittchen\nPortion Wiener mit Weck
URL:https://svbliesmengen.de/event/heringessen-an-faschingsdiensttag/
CATEGORIES:Veranstaltung
END:VEVENT
BEGIN:VEVENT
DTSTART;TZID=Europe/Paris:20260221T080000
DTEND;TZID=Europe/Paris:20260221T170000
DTSTAMP:20260424T200623
CREATED:20250908T134027Z
LAST-MODIFIED:20250908T134027Z
UID:915-1771660800-1771693200@svbliesmengen.de
SUMMARY:Wettkampf Oberliga Rückrunde 4. Wettkampf 2025/2026.
DESCRIPTION:Wettkampf Oberliga Rückrunde 4. Wettkampf 2025/2026. Ort und Zeit werden wir noch bekanntgeben.
URL:https://svbliesmengen.de/event/wettkampf-oberliga-rueckrunde-4-wettkampf-2025-2026/
CATEGORIES:Rundenkampf Oberliga
END:VEVENT
BEGIN:VEVENT
DTSTART;TZID=Europe/Paris:20260222T080000
DTEND;TZID=Europe/Paris:20260222T170000
DTSTAMP:20260424T200623
CREATED:20250908T141528Z
LAST-MODIFIED:20250908T141528Z
UID:934-1771747200-1771779600@svbliesmengen.de
SUMMARY:Wettkampf Sportpistole Rückrunde 3. Wettkampf 2025/2026.
DESCRIPTION:Wettkampf Sportpistole Rückrunde 3. Wettkampf 2025/2026. Ort und Zeit werden wir noch bekanntgeben.
URL:https://svbliesmengen.de/event/wettkampf-sportpistole-rueckrunde-3-wettkampf-2025-2026/
CATEGORIES:Rundenkampf Sportpistole
END:VEVENT
END:VCALENDAR