BEGIN:VCALENDAR
VERSION:2.0
PRODID:-//Schützenverein &quot;Ruhige Hand&quot; Bliesmengen-Bolchen e.V. 1960 - ECPv6.15.20//NONSGML v1.0//EN
CALSCALE:GREGORIAN
METHOD:PUBLISH
X-WR-CALNAME:Schützenverein &quot;Ruhige Hand&quot; Bliesmengen-Bolchen e.V. 1960
X-ORIGINAL-URL:https://svbliesmengen.de
X-WR-CALDESC:Veranstaltungen für Schützenverein &quot;Ruhige Hand&quot; Bliesmengen-Bolchen e.V. 1960
REFRESH-INTERVAL;VALUE=DURATION:PT1H
X-Robots-Tag:noindex
X-PUBLISHED-TTL:PT1H
BEGIN:VTIMEZONE
TZID:Europe/Paris
BEGIN:DAYLIGHT
TZOFFSETFROM:+0100
TZOFFSETTO:+0200
TZNAME:CEST
DTSTART:20240331T010000
END:DAYLIGHT
BEGIN:STANDARD
TZOFFSETFROM:+0200
TZOFFSETTO:+0100
TZNAME:CET
DTSTART:20241027T010000
END:STANDARD
BEGIN:DAYLIGHT
TZOFFSETFROM:+0100
TZOFFSETTO:+0200
TZNAME:CEST
DTSTART:20250330T010000
END:DAYLIGHT
BEGIN:STANDARD
TZOFFSETFROM:+0200
TZOFFSETTO:+0100
TZNAME:CET
DTSTART:20251026T010000
END:STANDARD
BEGIN:DAYLIGHT
TZOFFSETFROM:+0100
TZOFFSETTO:+0200
TZNAME:CEST
DTSTART:20260329T010000
END:DAYLIGHT
BEGIN:STANDARD
TZOFFSETFROM:+0200
TZOFFSETTO:+0100
TZNAME:CET
DTSTART:20261025T010000
END:STANDARD
END:VTIMEZONE
BEGIN:VEVENT
DTSTART;TZID=Europe/Paris:20251206T080000
DTEND;TZID=Europe/Paris:20251206T170000
DTSTAMP:20260424T225135
CREATED:20250908T133826Z
LAST-MODIFIED:20250908T133826Z
UID:907-1765008000-1765040400@svbliesmengen.de
SUMMARY:Wettkampf Oberliga Hinrunde 5. Wettkampf 2025/2026.
DESCRIPTION:Wettkampf Oberliga Hinrunde 1. Wettkampf 2025/2026. Ort und Zeit werden wir noch bekanntgeben.
URL:https://svbliesmengen.de/event/wettkampf-oberliga-hinrunde-5-wettkampf-2025-2026/
CATEGORIES:Rundenkampf Oberliga
END:VEVENT
BEGIN:VEVENT
DTSTART;TZID=Europe/Paris:20251207T080000
DTEND;TZID=Europe/Paris:20251207T170000
DTSTAMP:20260424T225135
CREATED:20250908T141333Z
LAST-MODIFIED:20250908T141333Z
UID:926-1765094400-1765126800@svbliesmengen.de
SUMMARY:Wettkampf Sportpistole Hinrunde 4. Wettkampf 2025/2026.
DESCRIPTION:Wettkampf Sportpistole Hinrunde 4. Wettkampf 2025/2026. Ort und Zeit werden wir noch bekanntgeben.
URL:https://svbliesmengen.de/event/wettkampf-sportpistole-hinrunde-4-wettkampf-2025-2026/
CATEGORIES:Rundenkampf Sportpistole
END:VEVENT
BEGIN:VEVENT
DTSTART;TZID=Europe/Paris:20251214T080000
DTEND;TZID=Europe/Paris:20251214T170000
DTSTAMP:20260424T225135
CREATED:20250908T132135Z
LAST-MODIFIED:20251015T181353Z
UID:882-1765699200-1765731600@svbliesmengen.de
SUMMARY:Wettkampf Landesliga 3. Wettkampf 2025/2026
DESCRIPTION:Wettkampf Landesliga Vorrunde 3. Wettkampf 2025/2026. Ort und Zeit werden wir noch bekanntgeben.
URL:https://svbliesmengen.de/event/wettkampf-landesliga-vorrunde-3-wettkampf-2025-2026/
CATEGORIES:Rundenkampf Landesliga
END:VEVENT
BEGIN:VEVENT
DTSTART;TZID=Europe/Paris:20251220T080000
DTEND;TZID=Europe/Paris:20251220T170000
DTSTAMP:20260424T225135
CREATED:20250908T133857Z
LAST-MODIFIED:20250908T133857Z
UID:909-1766217600-1766250000@svbliesmengen.de
SUMMARY:Wettkampf Oberliga Rückrunde 1. Wettkampf 2025/2026.
DESCRIPTION:Wettkampf Oberliga Rückrunde 1. Wettkampf 2025/2026. Ort und Zeit werden wir noch bekanntgeben.
URL:https://svbliesmengen.de/event/wettkampf-oberliga-rueckrunde-1-wettkampf-2025-2026-2/
CATEGORIES:Rundenkampf Oberliga
END:VEVENT
BEGIN:VEVENT
DTSTART;TZID=Europe/Paris:20251221T080000
DTEND;TZID=Europe/Paris:20251221T170000
DTSTAMP:20260424T225135
CREATED:20250908T141403Z
LAST-MODIFIED:20250908T141403Z
UID:928-1766304000-1766336400@svbliesmengen.de
SUMMARY:Wettkampf Sportpistole Hinrunde 5. Wettkampf 2025/2026.
DESCRIPTION:Wettkampf Sportpistole Hinrunde 5. Wettkampf 2025/2026. Ort und Zeit werden wir noch bekanntgeben.
URL:https://svbliesmengen.de/event/wettkampf-sportpistole-hinrunde-5-wettkampf-2025-2026/
CATEGORIES:Rundenkampf Sportpistole
END:VEVENT
BEGIN:VEVENT
DTSTART;TZID=Europe/Paris:20251227T093000
DTEND;TZID=Europe/Paris:20251227T170000
DTSTAMP:20260424T225135
CREATED:20251129T200335Z
LAST-MODIFIED:20251129T200335Z
UID:983-1766827800-1766854800@svbliesmengen.de
SUMMARY:Winterwanderung 2025
DESCRIPTION:Zum Abschluss eines ereignisreichen Jahres wollen wir uns zusammenfinden und gemeinsam die immerzu beliebte Winterwanderung durchzuführen.\nMit einem Start am Schützenhaus sind die Möglichkeiten einer entsprechenden Einkehr mehr als eingeschränkt.\nAus diesem Grund wollen wir die Tour diesmal wieder mit dem Linienbus beginnen.\nDas Ziel ist die „Gollenstein-Hütte“ in Blieskastel. Um das Ziel zu erreichen\, treffen wir uns um 09.59 Uhr an der Bushaltestelle\, Nähe Sportplatz\, in Bliesmengen. Hier starten wir mit der Linie R14 und fahren bis nach Aßweiler. Hier ist der Start der Wanderung um 10.30 Uhr vorgesehen. \nTreffpunkt ist am Busbahnhof oder ein paar Minuten später am Aldi-Parkplatz.\nWer nicht mit wandern will oder kann\, jedoch dabei sein will\, kann sich ab 13 Uhr an der Hütte einfinden. Diese ist mit dem PKW gut erreichbar.\nDauer der Wanderung ca. 2\,5 Stunden und 8 km. \nAus der Speisekarte können Sie folgendes im Vorfeld auswählen: \n1. Hüttenschnitzel\, Champ.\, Speckwürfel\, Zwiebel\, Käse\, Sal.\, Pommes. 19\,90€\n2. Schnitzel Wiener Art\, paniert mit Pommes und Salat. 15\,80€\n3. Oder alternativ mit Rahmsoße\, Paprikasoße\, Jägersoße +2\,00 €\n4. Cordon Bleu\, Pommes\, Salat. 19\,90€\n5. Gebratener Saumagen mit Bratkartoffeln. 9\,00€\n6. Wurstsalat mit Bratkartoffeln oder Pommes. 11\,50€\n7. Gemischter Salatteller. 11\,50€\n8. Oder alternativ mit gebratenen Champignons. +2\,00€\n9. Oder alternativ mit Putenstreifen. +3\,50€\n10. Hüttentagliatelle mit Ofengemüse und Parmesan. 14\,50€ \nAnmeldung: Bei Edi Hautz\, Telefon 0157-54398301 \nBei der Anmeldung muss das Essen vorbestellt werden und mitgeteilt werden\, ob mit Bus oder eigenes Fahrzeug gefahren wird. \nAnmeldeschluss: 15.12.25
URL:https://svbliesmengen.de/event/winterwanderung-2025/
LOCATION:Gollensteinhütte
CATEGORIES:Veranstaltung
END:VEVENT
END:VCALENDAR