BEGIN:VCALENDAR
VERSION:2.0
PRODID:-//Schützenverein &quot;Ruhige Hand&quot; Bliesmengen-Bolchen e.V. 1960 - ECPv6.15.20//NONSGML v1.0//EN
CALSCALE:GREGORIAN
METHOD:PUBLISH
X-WR-CALNAME:Schützenverein &quot;Ruhige Hand&quot; Bliesmengen-Bolchen e.V. 1960
X-ORIGINAL-URL:https://svbliesmengen.de
X-WR-CALDESC:Veranstaltungen für Schützenverein &quot;Ruhige Hand&quot; Bliesmengen-Bolchen e.V. 1960
REFRESH-INTERVAL;VALUE=DURATION:PT1H
X-Robots-Tag:noindex
X-PUBLISHED-TTL:PT1H
BEGIN:VTIMEZONE
TZID:Europe/Paris
BEGIN:DAYLIGHT
TZOFFSETFROM:+0100
TZOFFSETTO:+0200
TZNAME:CEST
DTSTART:20240331T010000
END:DAYLIGHT
BEGIN:STANDARD
TZOFFSETFROM:+0200
TZOFFSETTO:+0100
TZNAME:CET
DTSTART:20241027T010000
END:STANDARD
BEGIN:DAYLIGHT
TZOFFSETFROM:+0100
TZOFFSETTO:+0200
TZNAME:CEST
DTSTART:20250330T010000
END:DAYLIGHT
BEGIN:STANDARD
TZOFFSETFROM:+0200
TZOFFSETTO:+0100
TZNAME:CET
DTSTART:20251026T010000
END:STANDARD
BEGIN:DAYLIGHT
TZOFFSETFROM:+0100
TZOFFSETTO:+0200
TZNAME:CEST
DTSTART:20260329T010000
END:DAYLIGHT
BEGIN:STANDARD
TZOFFSETFROM:+0200
TZOFFSETTO:+0100
TZNAME:CET
DTSTART:20261025T010000
END:STANDARD
END:VTIMEZONE
BEGIN:VEVENT
DTSTART;TZID=Europe/Paris:20251108T080000
DTEND;TZID=Europe/Paris:20251108T170000
DTSTAMP:20260425T001053
CREATED:20250908T133736Z
LAST-MODIFIED:20250908T133736Z
UID:903-1762588800-1762621200@svbliesmengen.de
SUMMARY:Wettkampf Oberliga Hinrunde 3. Wettkampf 2025/2026.
DESCRIPTION:Wettkampf Oberliga Hinrunde 3. Wettkampf 2025/2026. Ort und Zeit werden wir noch bekanntgeben.
URL:https://svbliesmengen.de/event/wettkampf-oberliga-hinrunde-3-wettkampf-2025-2026/
CATEGORIES:Rundenkampf Oberliga
END:VEVENT
BEGIN:VEVENT
DTSTART;TZID=Europe/Paris:20251109T080000
DTEND;TZID=Europe/Paris:20251109T170000
DTSTAMP:20260425T001053
CREATED:20250908T141307Z
LAST-MODIFIED:20250908T141307Z
UID:924-1762675200-1762707600@svbliesmengen.de
SUMMARY:Wettkampf Sportpistole Hinrunde 3. Wettkampf 2025/2026.
DESCRIPTION:Wettkampf Sportpistole Hinrunde 1. Wettkampf 2025/2026. Ort und Zeit werden wir noch bekanntgeben.
URL:https://svbliesmengen.de/event/wettkampf-sportpistole-hinrunde-3-wettkampf-2025-2026/
CATEGORIES:Rundenkampf Sportpistole
END:VEVENT
BEGIN:VEVENT
DTSTART;TZID=Europe/Paris:20251116T080000
DTEND;TZID=Europe/Paris:20251116T170000
DTSTAMP:20260425T001053
CREATED:20250908T132049Z
LAST-MODIFIED:20251015T181332Z
UID:879-1763280000-1763312400@svbliesmengen.de
SUMMARY:Wettkampf Landesliga 2. Wettkampf 2025/2026
DESCRIPTION:Wettkampf Landesliga Vorrunde 2. Wettkampf 2025/2026. Ort und Zeit werden wir noch bekanntgeben.
URL:https://svbliesmengen.de/event/wettkampf-landesliga-vorrunde-2-wettkampf-2025-2026/
CATEGORIES:Rundenkampf Landesliga
END:VEVENT
BEGIN:VEVENT
DTSTART;TZID=Europe/Paris:20251121T180000
DTEND;TZID=Europe/Paris:20251121T223000
DTSTAMP:20260425T001053
CREATED:20251105T173925Z
LAST-MODIFIED:20251105T173925Z
UID:951-1763748000-1763764200@svbliesmengen.de
SUMMARY:Primeurfest 2025
DESCRIPTION:
URL:https://svbliesmengen.de/event/primeurfest-2025/
CATEGORIES:Veranstaltung
END:VEVENT
BEGIN:VEVENT
DTSTART;TZID=Europe/Paris:20251122T080000
DTEND;TZID=Europe/Paris:20251122T170000
DTSTAMP:20260425T001053
CREATED:20250908T133758Z
LAST-MODIFIED:20250908T133758Z
UID:905-1763798400-1763830800@svbliesmengen.de
SUMMARY:Wettkampf Oberliga Hinrunde 4. Wettkampf 2025/2026.
DESCRIPTION:Wettkampf Oberliga Hinrunde 1. Wettkampf 2025/2026. Ort und Zeit werden wir noch bekanntgeben.
URL:https://svbliesmengen.de/event/wettkampf-oberliga-hinrunde-4-wettkampf-2025-2026/
CATEGORIES:Rundenkampf Oberliga
END:VEVENT
END:VCALENDAR