BEGIN:VCALENDAR
VERSION:2.0
PRODID:-//Schützenverein &quot;Ruhige Hand&quot; Bliesmengen-Bolchen e.V. 1960 - ECPv6.15.20//NONSGML v1.0//EN
CALSCALE:GREGORIAN
METHOD:PUBLISH
X-ORIGINAL-URL:https://svbliesmengen.de
X-WR-CALDESC:Veranstaltungen für Schützenverein &quot;Ruhige Hand&quot; Bliesmengen-Bolchen e.V. 1960
REFRESH-INTERVAL;VALUE=DURATION:PT1H
X-Robots-Tag:noindex
X-PUBLISHED-TTL:PT1H
BEGIN:VTIMEZONE
TZID:Europe/Paris
BEGIN:DAYLIGHT
TZOFFSETFROM:+0100
TZOFFSETTO:+0200
TZNAME:CEST
DTSTART:20240331T010000
END:DAYLIGHT
BEGIN:STANDARD
TZOFFSETFROM:+0200
TZOFFSETTO:+0100
TZNAME:CET
DTSTART:20241027T010000
END:STANDARD
BEGIN:DAYLIGHT
TZOFFSETFROM:+0100
TZOFFSETTO:+0200
TZNAME:CEST
DTSTART:20250330T010000
END:DAYLIGHT
BEGIN:STANDARD
TZOFFSETFROM:+0200
TZOFFSETTO:+0100
TZNAME:CET
DTSTART:20251026T010000
END:STANDARD
BEGIN:DAYLIGHT
TZOFFSETFROM:+0100
TZOFFSETTO:+0200
TZNAME:CEST
DTSTART:20260329T010000
END:DAYLIGHT
BEGIN:STANDARD
TZOFFSETFROM:+0200
TZOFFSETTO:+0100
TZNAME:CET
DTSTART:20261025T010000
END:STANDARD
END:VTIMEZONE
BEGIN:VEVENT
DTSTART;VALUE=DATE:20251005
DTEND;VALUE=DATE:20251006
DTSTAMP:20260425T012629
CREATED:20250616T053956Z
LAST-MODIFIED:20250616T054001Z
UID:832-1759622400-1759708799@svbliesmengen.de
SUMMARY:Kreiskönigsschießen 2025 des Schützenkreises Bliestal
DESCRIPTION:Die Ausrichtung des Kreiskönigsschießens wurde vom Vorstand des Schützenkreises Bliestal dem Schützenverein König Ludwig 1906 Lautzkirchen übertragen. \nAusschreibung Kreiskönigsschießen 2025
URL:https://svbliesmengen.de/event/kreiskoenigsschiessen-2025-des-schuetzenkreises-bliestal/
LOCATION:Schützenverein König Ludwig 1906 Lautzkirchen\, Auf dem Gänshorn\, Blieskastel-Lautzkirchen\, 66440
CATEGORIES:Veranstaltung
END:VEVENT
BEGIN:VEVENT
DTSTART;TZID=Europe/Paris:20251011T080000
DTEND;TZID=Europe/Paris:20251011T170000
DTSTAMP:20260425T012629
CREATED:20250908T133619Z
LAST-MODIFIED:20250908T133641Z
UID:898-1760169600-1760202000@svbliesmengen.de
SUMMARY:Wettkampf Oberliga Hinrunde 1. Wettkampf 2025/2026.
DESCRIPTION:Wettkampf Oberliga Hinrunde 1. Wettkampf 2025/2026. Ort und Zeit werden wir noch bekanntgeben.
URL:https://svbliesmengen.de/event/wettkampf-oberliga-rueckrunde-1-wettkampf-2025-2026/
CATEGORIES:Rundenkampf Oberliga
END:VEVENT
BEGIN:VEVENT
DTSTART;TZID=Europe/Paris:20251012T080000
DTEND;TZID=Europe/Paris:20251012T170000
DTSTAMP:20260425T012629
CREATED:20250908T141219Z
LAST-MODIFIED:20250908T141219Z
UID:920-1760256000-1760288400@svbliesmengen.de
SUMMARY:Wettkampf Sportpistole Hinrunde 1. Wettkampf 2025/2026.
DESCRIPTION:Wettkampf Sportpistole Hinrunde 1. Wettkampf 2025/2026. Ort und Zeit werden wir noch bekanntgeben.
URL:https://svbliesmengen.de/event/wettkampf-sportpistole-hinrunde-1-wettkampf-2025-2026/
CATEGORIES:Rundenkampf Sportpistole
END:VEVENT
BEGIN:VEVENT
DTSTART;TZID=Europe/Paris:20251025T080000
DTEND;TZID=Europe/Paris:20251025T170000
DTSTAMP:20260425T012629
CREATED:20250908T133708Z
LAST-MODIFIED:20250908T133708Z
UID:901-1761379200-1761411600@svbliesmengen.de
SUMMARY:Wettkampf Oberliga Hinrunde 2. Wettkampf 2025/2026.
DESCRIPTION:Wettkampf Oberliga Hinrunde 2. Wettkampf 2025/2026. Ort und Zeit werden wir noch bekanntgeben.
URL:https://svbliesmengen.de/event/wettkampf-oberliga-hinrunde-2-wettkampf-2025-2026/
CATEGORIES:Rundenkampf Oberliga
END:VEVENT
BEGIN:VEVENT
DTSTART;TZID=Europe/Paris:20251026T080000
DTEND;TZID=Europe/Paris:20251026T170000
DTSTAMP:20260425T012629
CREATED:20250908T131937Z
LAST-MODIFIED:20251015T181259Z
UID:877-1761465600-1761498000@svbliesmengen.de
SUMMARY:Wettkampf Landesliga 1. Wettkampf 2025/2026
DESCRIPTION:Erster Wettkampftag Vorrunde in der Landesliga Luftgewehr. Ort und Zeit wird noch mitgeteilt.
URL:https://svbliesmengen.de/event/wettkampf-landesliga-vorrunde-1-wettkampf-2025-2026/
CATEGORIES:Rundenkampf Landesliga
END:VEVENT
BEGIN:VEVENT
DTSTART;TZID=Europe/Paris:20251026T080000
DTEND;TZID=Europe/Paris:20251026T170000
DTSTAMP:20260425T012629
CREATED:20250908T141246Z
LAST-MODIFIED:20250908T141246Z
UID:922-1761465600-1761498000@svbliesmengen.de
SUMMARY:Wettkampf Sportpistole Hinrunde 2. Wettkampf 2025/2026.
DESCRIPTION:Wettkampf Sportpistole Hinrunde 1. Wettkampf 2025/2026. Ort und Zeit werden wir noch bekanntgeben.
URL:https://svbliesmengen.de/event/wettkampf-sportpistole-hinrunde-2-wettkampf-2025-2026/
CATEGORIES:Rundenkampf Sportpistole
END:VEVENT
END:VCALENDAR