BEGIN:VCALENDAR
VERSION:2.0
PRODID:-//Schützenverein &quot;Ruhige Hand&quot; Bliesmengen-Bolchen e.V. 1960 - ECPv6.15.20//NONSGML v1.0//EN
CALSCALE:GREGORIAN
METHOD:PUBLISH
X-WR-CALNAME:Schützenverein &quot;Ruhige Hand&quot; Bliesmengen-Bolchen e.V. 1960
X-ORIGINAL-URL:https://svbliesmengen.de
X-WR-CALDESC:Veranstaltungen für Schützenverein &quot;Ruhige Hand&quot; Bliesmengen-Bolchen e.V. 1960
REFRESH-INTERVAL;VALUE=DURATION:PT1H
X-Robots-Tag:noindex
X-PUBLISHED-TTL:PT1H
BEGIN:VTIMEZONE
TZID:Europe/Paris
BEGIN:DAYLIGHT
TZOFFSETFROM:+0100
TZOFFSETTO:+0200
TZNAME:CEST
DTSTART:20250330T010000
END:DAYLIGHT
BEGIN:STANDARD
TZOFFSETFROM:+0200
TZOFFSETTO:+0100
TZNAME:CET
DTSTART:20251026T010000
END:STANDARD
BEGIN:DAYLIGHT
TZOFFSETFROM:+0100
TZOFFSETTO:+0200
TZNAME:CEST
DTSTART:20260329T010000
END:DAYLIGHT
BEGIN:STANDARD
TZOFFSETFROM:+0200
TZOFFSETTO:+0100
TZNAME:CET
DTSTART:20261025T010000
END:STANDARD
BEGIN:DAYLIGHT
TZOFFSETFROM:+0100
TZOFFSETTO:+0200
TZNAME:CEST
DTSTART:20270328T010000
END:DAYLIGHT
BEGIN:STANDARD
TZOFFSETFROM:+0200
TZOFFSETTO:+0100
TZNAME:CET
DTSTART:20271031T010000
END:STANDARD
END:VTIMEZONE
BEGIN:VEVENT
DTSTART;TZID=Europe/Paris:20260402T170000
DTEND;TZID=Europe/Paris:20260403T210000
DTSTAMP:20260424T183857
CREATED:20260206T120638Z
LAST-MODIFIED:20260206T120753Z
UID:1021-1775149200-1775250000@svbliesmengen.de
SUMMARY:Ostereierschießen 2026
DESCRIPTION:Aufgrund des hohen Andrangs findet das diesjähre Ostereierschießen erstmals an Zwei Tagen statt. Beginnend mit dem Gründonnerstag und Endend am Karfreitag. \nGründonnerstag von 17:00 bis 21:00 Uhr\nKarfreitag von 11:00 bis 18:00 Uhr \nFürs leibliche Wohl ist gesorgt.
URL:https://svbliesmengen.de/event/ostereierschiessen-2026/
CATEGORIES:Veranstaltung
END:VEVENT
END:VCALENDAR