BEGIN:VCALENDAR
VERSION:2.0
PRODID:-//Schützenverein &quot;Ruhige Hand&quot; Bliesmengen-Bolchen e.V. 1960 - ECPv6.15.20//NONSGML v1.0//EN
CALSCALE:GREGORIAN
METHOD:PUBLISH
X-WR-CALNAME:Schützenverein &quot;Ruhige Hand&quot; Bliesmengen-Bolchen e.V. 1960
X-ORIGINAL-URL:https://svbliesmengen.de
X-WR-CALDESC:Veranstaltungen für Schützenverein &quot;Ruhige Hand&quot; Bliesmengen-Bolchen e.V. 1960
REFRESH-INTERVAL;VALUE=DURATION:PT1H
X-Robots-Tag:noindex
X-PUBLISHED-TTL:PT1H
BEGIN:VTIMEZONE
TZID:Europe/Paris
BEGIN:DAYLIGHT
TZOFFSETFROM:+0100
TZOFFSETTO:+0200
TZNAME:CEST
DTSTART:20230326T010000
END:DAYLIGHT
BEGIN:STANDARD
TZOFFSETFROM:+0200
TZOFFSETTO:+0100
TZNAME:CET
DTSTART:20231029T010000
END:STANDARD
BEGIN:DAYLIGHT
TZOFFSETFROM:+0100
TZOFFSETTO:+0200
TZNAME:CEST
DTSTART:20240331T010000
END:DAYLIGHT
BEGIN:STANDARD
TZOFFSETFROM:+0200
TZOFFSETTO:+0100
TZNAME:CET
DTSTART:20241027T010000
END:STANDARD
BEGIN:DAYLIGHT
TZOFFSETFROM:+0100
TZOFFSETTO:+0200
TZNAME:CEST
DTSTART:20250330T010000
END:DAYLIGHT
BEGIN:STANDARD
TZOFFSETFROM:+0200
TZOFFSETTO:+0100
TZNAME:CET
DTSTART:20251026T010000
END:STANDARD
END:VTIMEZONE
BEGIN:VEVENT
DTSTART;TZID=Europe/Paris:20241116T170000
DTEND;TZID=Europe/Paris:20241116T190000
DTSTAMP:20260426T052400
CREATED:20240920T121441Z
LAST-MODIFIED:20240920T121441Z
UID:685-1731776400-1731783600@svbliesmengen.de
SUMMARY:SV Bliesmengen-Bolchen 2 - Bexbach 1
DESCRIPTION:Heimkampf gegen Bexbach.
URL:https://svbliesmengen.de/event/sv-bliesmengen-bolchen-2-bexbach-1/
CATEGORIES:Rundenkampf Oberliga
END:VEVENT
END:VCALENDAR